BEGIN:VCALENDAR
VERSION:2.0
PRODID:-//Squarespace Inc/Squarespace 6//v6//EN
BEGIN:VEVENT
UID:5859df529f74569269e842f2@squarespace.com
DTSTAMP:20170110T043212Z
DTSTART:20170111T000000Z
DTEND:20170111T040000Z
SUMMARY:TUESDAY SUMMER SESSIONS 
END:VEVENT
END:VCALENDAR
