BEGIN:VCALENDAR
VERSION:2.0
PRODID:-//Squarespace Inc/Squarespace 6//v6//EN
BEGIN:VEVENT
UID:585889aeb8a79b6f0c5d7a37@squarespace.com
DTSTAMP:20171128T080238Z
DTSTART:20171208T220000Z
DTEND:20171209T013000Z
SUMMARY:ACOUSTIC SESSIONS ON THE PATIO
GEO:-33.857501;151.20866
LOCATION:Mercantile Hotel\, 25 George Street\, The Rocks\, NSW\, 2000\, Aus
 tralia
END:VEVENT
END:VCALENDAR
