BEGIN:VCALENDAR
VERSION:2.0
PRODID:-//Squarespace Inc/Squarespace 6//v6//EN
BEGIN:VEVENT
UID:59fc3ed864265fb01e55047b@squarespace.com
DTSTAMP:20190619T045226Z
DTSTART:20180621T210000Z
DTEND:20180622T003000Z
SUMMARY:ACOUSTIC SESSIONS ON THE PATIO
GEO:-33.857501;151.20866
LOCATION:Mercantile Hotel\, 25 George Street\, The Rocks\, NSW\, 2000\, Aus
 tralia
END:VEVENT
END:VCALENDAR
