BEGIN:VCALENDAR
VERSION:2.0
PRODID:-//Squarespace Inc/Squarespace 6//v6//EN
BEGIN:VEVENT
UID:5b332704f950b7fadb8cb0f0@squarespace.com
DTSTAMP:20190615T043337Z
DTSTART:20190222T220000Z
DTEND:20190223T013000Z
SUMMARY:FRIDAY ACOUSTIC SESSIONS
GEO:-33.857501;151.20866
LOCATION:Mercantile Hotel\, 25 George Street\, The Rocks\, NSW\, 2000\, Aus
 tralia
END:VEVENT
END:VCALENDAR
