BEGIN:VCALENDAR
VERSION:2.0
PRODID:-//Squarespace Inc/Squarespace 6//v6//EN
BEGIN:VEVENT
UID:5a38ef5724a694c355bfb4ee@squarespace.com
DTSTAMP:20180406T090658Z
DTSTART:20180406T210000Z
DTEND:20180407T003000Z
SUMMARY:ACOUSTIC SESSIONS ON THE PATIO
GEO:-33.857501;151.20866
LOCATION:Mercantile Hotel\, 25 George Street\, The Rocks\, NSW\, 2000\, Aus
 tralia
END:VEVENT
END:VCALENDAR
