BEGIN:VCALENDAR
VERSION:2.0
PRODID:-//Squarespace Inc/Squarespace 6//v6//EN
BEGIN:VEVENT
UID:5bbf3509e4966b22ee6d58d3@squarespace.com
DTSTAMP:20181011T113722Z
DTSTART:20181012T200000Z
DTEND:20181012T233000Z
SUMMARY:ACOUSTIC SESSIONS ON THE PATIO
GEO:-33.857501;151.20866
LOCATION:Mercantile Hotel\, 25 George Street\, The Rocks\, NSW\, 2000\, Aus
 tralia
END:VEVENT
END:VCALENDAR
