BEGIN:VCALENDAR
VERSION:2.0
PRODID:-//Squarespace Inc/Squarespace 6//v6//EN
BEGIN:VEVENT
UID:5a279f46e4966b0f722bee75@squarespace.com
DTSTAMP:20171222T055253Z
DTSTART:20171222T220000Z
DTEND:20171223T013000Z
SUMMARY:ACOUSTIC SESSIONS ON THE PATIO
GEO:-33.857501;151.20866
LOCATION:Mercantile Hotel\, 25 George Street\, The Rocks\, NSW\, 2000\, Aus
 tralia
END:VEVENT
END:VCALENDAR
