BEGIN:VCALENDAR
VERSION:2.0
PRODID:-//Squarespace Inc/Squarespace 6//v6//EN
BEGIN:VEVENT
UID:5a27a015419202051072cfda@squarespace.com
DTSTAMP:20190420T065941Z
DTSTART:20180328T233000Z
DTEND:20180329T030000Z
SUMMARY:WEDNESDAY MUSIC
GEO:-33.857501;151.20866
LOCATION:Mercantile Hotel\, 25 George Street\, The Rocks\, NSW\, 2000\, Aus
 tralia
END:VEVENT
END:VCALENDAR
