BEGIN:VCALENDAR
VERSION:2.0
PRODID:-//Squarespace Inc/Squarespace 6//v6//EN
BEGIN:VEVENT
UID:5cbac35ef9619a021d1d07f1@squarespace.com
DTSTAMP:20190420T070045Z
DTSTART:20190424T233000Z
DTEND:20190425T030000Z
SUMMARY:WEDNESDAY MUSIC - ANZAC DAY EVE
GEO:-33.857501;151.20866
LOCATION:Mercantile Hotel\, 25 George Street\, The Rocks\, NSW\, 2000\, Aus
 tralia
END:VEVENT
END:VCALENDAR
