BEGIN:VCALENDAR
VERSION:2.0
PRODID:-//Squarespace Inc/Squarespace 6//v6//EN
BEGIN:VEVENT
UID:5859caade4fcb532402439a8@squarespace.com
DTSTAMP:20180417T033045Z
DTSTART:20180424T230000Z
DTEND:20180425T030000Z
SUMMARY:ANZAC DAY EVE
END:VEVENT
END:VCALENDAR
