BEGIN:VCALENDAR
VERSION:2.0
PRODID:-//Squarespace Inc/Squarespace 6//v6//EN
BEGIN:VEVENT
UID:5859e06bbebafba699259faf@squarespace.com
DTSTAMP:20200214T063900Z
DTSTART:20200229T020000Z
DTEND:20200229T053000Z
SUMMARY:FRIDAY NIGHT MUSIC
GEO:-33.857501;151.20866
LOCATION:Mercantile Hotel\, 25 George Street\, The Rocks\, NSW\, 2000\, Aus
 tralia
END:VEVENT
END:VCALENDAR
