BEGIN:VCALENDAR
VERSION:2.0
PRODID:-//Squarespace Inc/Squarespace 6//v6//EN
BEGIN:VEVENT
UID:5b56dbb48a922dbc850133ad@squarespace.com
DTSTAMP:20190119T053236Z
DTSTART:20190126T013000Z
DTEND:20190126T053000Z
SUMMARY:FRIDAY NIGHT MUSIC
GEO:-33.857501;151.20866
LOCATION:Mercantile Hotel\, 25 George Street\, The Rocks\, NSW\, 2000\, Aus
 tralia
END:VEVENT
END:VCALENDAR
