BEGIN:VCALENDAR
VERSION:2.0
PRODID:-//Squarespace Inc/Squarespace 6//v6//EN
BEGIN:VEVENT
UID:59fc4186f9619aa7cbe4e125@squarespace.com
DTSTAMP:20180616T030749Z
DTSTART:20180623T003000Z
DTEND:20180623T043000Z
SUMMARY:FRIDAY NIGHT MUSIC
GEO:-33.857501;151.20866
LOCATION:Mercantile Hotel\, 25 George Street\, The Rocks\, NSW\, 2000\, Aus
 tralia
END:VEVENT
END:VCALENDAR
