BEGIN:VCALENDAR
VERSION:2.0
PRODID:-//Squarespace Inc/Squarespace 6//v6//EN
BEGIN:VEVENT
UID:5cc101439140b7bf8bbda6bc@squarespace.com
DTSTAMP:20190506T065550Z
DTSTART:20190508T233000Z
DTEND:20190509T023000Z
SUMMARY:WEDNESDAY MUSIC - MIDWEEK MERC
GEO:-33.857501;151.20866
LOCATION:Mercantile Hotel\, 25 George Street\, The Rocks\, NSW\, 2000\, Aus
 tralia
END:VEVENT
END:VCALENDAR
