BEGIN:VCALENDAR
VERSION:2.0
PRODID:-//Squarespace Inc/Squarespace 6//v6//EN
BEGIN:VEVENT
UID:5e215fecc8ae141b3eeb4744@squarespace.com
DTSTAMP:20200117T071920Z
DTSTART:20200129T233000Z
DTEND:20200130T023000Z
SUMMARY:WEDNESDAY MUSIC - MIDWEEK MERC
GEO:-33.857501;151.20866
LOCATION:Mercantile Hotel\, 25 George Street\, The Rocks\, NSW\, 2000\, Aus
 tralia
END:VEVENT
END:VCALENDAR
