BEGIN:VCALENDAR
VERSION:2.0
PRODID:-//Squarespace Inc/Squarespace 6//v6//EN
BEGIN:VEVENT
UID:5e291a1ca9d3422148567380@squarespace.com
DTSTAMP:20200129T025145Z
DTSTART:20200212T233000Z
DTEND:20200213T023000Z
SUMMARY:WEDNESDAY MUSIC - MIDWEEK MERC
GEO:-33.857501;151.20866
LOCATION:Mercantile Hotel\, 25 George Street\, The Rocks\, NSW\, 2000\, Aus
 tralia
END:VEVENT
END:VCALENDAR
