BEGIN:VCALENDAR
VERSION:2.0
PRODID:-//Squarespace Inc/Squarespace 6//v6//EN
BEGIN:VEVENT
UID:5e463f4c282c5b032ad6ed1c@squarespace.com
DTSTAMP:20200214T063406Z
DTSTART:20200226T233000Z
DTEND:20200227T023000Z
SUMMARY:WEDNESDAY MUSIC - MIDWEEK MERC
GEO:-33.857501;151.20866
LOCATION:Mercantile Hotel\, 25 George Street\, The Rocks\, NSW\, 2000\, Aus
 tralia
END:VEVENT
END:VCALENDAR
