BEGIN:VCALENDAR
VERSION:2.0
PRODID:-//Squarespace Inc/Squarespace 6//v6//EN
BEGIN:VEVENT
UID:5e30f3e0eb5c51113febd4a7@squarespace.com
DTSTAMP:20200129T025500Z
DTSTART:20200205T233000Z
DTEND:20200206T023000Z
SUMMARY:WEDNESDAY MUSIC - MIDWEEK MERC 
GEO:-33.857501;151.20866
LOCATION:Mercantile Hotel\, 25 George Street\, The Rocks\, NSW\, 2000\, Aus
 tralia
END:VEVENT
END:VCALENDAR
