BEGIN:VCALENDAR
VERSION:2.0
PRODID:-//Squarespace Inc/Squarespace 6//v6//EN
BEGIN:VEVENT
UID:5df343684e0d57635d23f225@squarespace.com
DTSTAMP:20200101T032733Z
DTSTART:20191223T233000Z
DTEND:20191224T023000Z
SUMMARY:MONDAY TUNES
GEO:-33.857501;151.20866
LOCATION:Mercantile Hotel\, 25 George Street\, The Rocks\, NSW\, 2000\, Aus
 tralia
END:VEVENT
END:VCALENDAR
