BEGIN:VCALENDAR
VERSION:2.0
PRODID:-//Squarespace Inc/Squarespace 6//v6//EN
BEGIN:VEVENT
UID:5df9cc8eba6ef66e21f120eb@squarespace.com
DTSTAMP:20200123T034012Z
DTSTART:20200203T233000Z
DTEND:20200204T023000Z
SUMMARY:MONDAY TUNES
GEO:-33.857501;151.20866
LOCATION:Mercantile Hotel\, 25 George Street\, The Rocks\, NSW\, 2000\, Aus
 tralia
END:VEVENT
END:VCALENDAR
