BEGIN:VCALENDAR
VERSION:2.0
PRODID:-//Squarespace Inc/Squarespace 6//v6//EN
BEGIN:VEVENT
UID:5e30f25be315a34038263f69@squarespace.com
DTSTAMP:20200129T024822Z
DTSTART:20200210T233000Z
DTEND:20200211T023000Z
SUMMARY:MONDAY TUNES
GEO:-33.857501;151.20866
LOCATION:Mercantile Hotel\, 25 George Street\, The Rocks\, NSW\, 2000\, Aus
 tralia
END:VEVENT
END:VCALENDAR
