BEGIN:VCALENDAR
VERSION:2.0
PRODID:-//Squarespace Inc/Squarespace 6//v6//EN
BEGIN:VEVENT
UID:5e3a37c2f8a25f606a821a50@squarespace.com
DTSTAMP:20200205T033450Z
DTSTART:20200217T233000Z
DTEND:20200218T023000Z
SUMMARY:MONDAY TUNES 
GEO:-33.857501;151.20866
LOCATION:Mercantile Hotel\, 25 George Street\, The Rocks\, NSW\, 2000\, Aus
 tralia
END:VEVENT
END:VCALENDAR
