BEGIN:VCALENDAR
VERSION:2.0
PRODID:-//Squarespace Inc/Squarespace 6//v6//EN
BEGIN:VEVENT
UID:5e463eb5ba064718d721fff7@squarespace.com
DTSTAMP:20200214T063136Z
DTSTART:20200224T233000Z
DTEND:20200225T023000Z
SUMMARY:MONDAY TUNES 
GEO:-33.857501;151.20866
LOCATION:Mercantile Hotel\, 25 George Street\, The Rocks\, NSW\, 2000\, Aus
 tralia
END:VEVENT
END:VCALENDAR
