BEGIN:VCALENDAR
VERSION:2.0
PRODID:-//Squarespace Inc/Squarespace 6//v6//EN
BEGIN:VEVENT
UID:5e215f9e7cc7f93faf146b74@squarespace.com
DTSTAMP:20200117T071804Z
DTSTART:20200128T233000Z
DTEND:20200129T023000Z
SUMMARY:TUESDAY MUSIC - MIDWEEK MERC
GEO:-33.857501;151.20866
LOCATION:Mercantile Hotel\, 25 George Street\, The Rocks\, NSW\, 2000\, Aus
 tralia
END:VEVENT
END:VCALENDAR
