BEGIN:VCALENDAR
VERSION:2.0
PRODID:-//Squarespace Inc/Squarespace 6//v6//EN
BEGIN:VEVENT
UID:5e2919e978c38064efb8e7e3@squarespace.com
DTSTAMP:20200123T040809Z
DTSTART:20200204T233000Z
DTEND:20200205T023000Z
SUMMARY:TUESDAY MUSIC - MIDWEEK MERC
GEO:-33.857501;151.20866
LOCATION:Mercantile Hotel\, 25 George Street\, The Rocks\, NSW\, 2000\, Aus
 tralia
END:VEVENT
END:VCALENDAR
