BEGIN:VCALENDAR
VERSION:2.0
PRODID:-//Squarespace Inc/Squarespace 6//v6//EN
BEGIN:VEVENT
UID:5e3a37f10e012b78db3ad2ce@squarespace.com
DTSTAMP:20200205T033531Z
DTSTART:20200218T233000Z
DTEND:20200219T023000Z
SUMMARY:TUESDAY MUSIC - MIDWEEK MERC 
GEO:-33.857501;151.20866
LOCATION:Mercantile Hotel\, 25 George Street\, The Rocks\, NSW\, 2000\, Aus
 tralia
END:VEVENT
END:VCALENDAR
