BEGIN:VCALENDAR
VERSION:2.0
PRODID:-//Squarespace Inc/Squarespace 6//v6//EN
BEGIN:VEVENT
UID:5e463f242e5c77410b079c36@squarespace.com
DTSTAMP:20200214T063326Z
DTSTART:20200225T233000Z
DTEND:20200226T023000Z
SUMMARY:TUESDAY MUSIC - MIDWEEK MERC 
GEO:-33.857501;151.20866
LOCATION:Mercantile Hotel\, 25 George Street\, The Rocks\, NSW\, 2000\, Aus
 tralia
END:VEVENT
END:VCALENDAR
