BEGIN:VCALENDAR
VERSION:2.0
PRODID:-//Squarespace Inc/Squarespace 6//v6//EN
BEGIN:VEVENT
UID:5d8b0be0e796695cc294d094@squarespace.com
DTSTAMP:20190925T064138Z
DTSTART:20191002T223000Z
DTEND:20191003T013000Z
SUMMARY:WEDNESDAY MUSIC - MIDWEEK MERC
GEO:-33.857501;151.20866
LOCATION:Mercantile Hotel\, 25 George Street\, The Rocks\, NSW\, 2000\, Aus
 tralia
END:VEVENT
END:VCALENDAR
