BEGIN:VCALENDAR
VERSION:2.0
PRODID:-//Squarespace Inc/Squarespace 6//v6//EN
BEGIN:VEVENT
UID:5d9d625be9825e191c4e3aa8@squarespace.com
DTSTAMP:20191009T043049Z
DTSTART:20191019T010000Z
DTEND:20191019T040000Z
SUMMARY:FRIDAY NIGHT TUNES 
GEO:-33.857501;151.20866
LOCATION:Mercantile Hotel\, 25 George Street\, The Rocks\, NSW\, 2000\, Aus
 tralia
END:VEVENT
END:VCALENDAR
