BEGIN:VCALENDAR
VERSION:2.0
PRODID:-//Squarespace Inc/Squarespace 6//v6//EN
BEGIN:VEVENT
UID:5e17ec050edc8649d09b1ef0@squarespace.com
DTSTAMP:20200110T034423Z
DTSTART:20200125T020000Z
DTEND:20200125T053000Z
SUMMARY:FRIDAY NIGHT TUNES
GEO:-33.857501;151.20866
LOCATION:Mercantile Hotel\, 25 George Street\, The Rocks\, NSW\, 2000\, Aus
 tralia
END:VEVENT
END:VCALENDAR
