BEGIN:VCALENDAR
VERSION:2.0
PRODID:-//Squarespace Inc/Squarespace 6//v6//EN
BEGIN:VEVENT
UID:5e30f454ad168b211c4b597d@squarespace.com
DTSTAMP:20200129T025646Z
DTSTART:20200215T020000Z
DTEND:20200215T053000Z
SUMMARY:FRIDAY NIGHT TUNES
GEO:-33.857501;151.20866
LOCATION:Mercantile Hotel\, 25 George Street\, The Rocks\, NSW\, 2000\, Aus
 tralia
END:VEVENT
END:VCALENDAR
