BEGIN:VCALENDAR
VERSION:2.0
PRODID:-//Squarespace Inc/Squarespace 6//v6//EN
BEGIN:VEVENT
UID:5e3a3c4af5b80670ad5ce710@squarespace.com
DTSTAMP:20200205T035404Z
DTSTART:20200222T020000Z
DTEND:20200222T053000Z
SUMMARY:FRIDAY NIGHT TUNES
GEO:-33.857501;151.20866
LOCATION:Mercantile Hotel\, 25 George Street\, The Rocks\, NSW\, 2000\, Aus
 tralia
END:VEVENT
END:VCALENDAR
