BEGIN:VCALENDAR
VERSION:2.0
PRODID:-//Squarespace Inc/Squarespace 6//v6//EN
BEGIN:VEVENT
UID:5e30f602eb5c51113fec3bf6@squarespace.com
DTSTAMP:20200129T030345Z
DTSTART:20200208T020000Z
DTEND:20200208T053000Z
SUMMARY:FRIDAY NIGHT TUNES 
GEO:-33.857501;151.20866
LOCATION:Mercantile Hotel\, 25 George Street\, The Rocks\, NSW\, 2000\, Aus
 tralia
END:VEVENT
END:VCALENDAR
