BEGIN:VCALENDAR
VERSION:2.0
PRODID:-//Squarespace Inc/Squarespace 6//v6//EN
BEGIN:VEVENT
UID:5c9599424192028641af4522@squarespace.com
DTSTAMP:20191220T003053Z
DTSTART:20191229T200000Z
DTEND:20191229T233000Z
SUMMARY:SUNDAY NIGHT MUSIC - Lost Backpackers
GEO:-33.857501;151.20866
LOCATION:Mercantile Hotel\, 25 George Street\, The Rocks\, NSW\, 2000\, Aus
 tralia
END:VEVENT
END:VCALENDAR
