BEGIN:VCALENDAR
VERSION:2.0
PRODID:-//Squarespace Inc/Squarespace 6//v6//EN
BEGIN:VEVENT
UID:5853240d725e254f8b577ac9@squarespace.com
DTSTAMP:20171021T063747Z
DTSTART:20171022T003000Z
DTEND:20171022T043000Z
SUMMARY:SATURDAY NIGHT BAND
GEO:-33.857501;151.20866
LOCATION:Mercantile Hotel\, 25 George Street\, The Rocks\, NSW\, 2000\, Aus
 tralia
END:VEVENT
END:VCALENDAR
