BEGIN:VCALENDAR
VERSION:2.0
PRODID:-//Squarespace Inc/Squarespace 6//v6//EN
BEGIN:VEVENT
UID:5a34ab07c830258ccb834a84@squarespace.com
DTSTAMP:20181015T022750Z
DTSTART:20181021T010000Z
DTEND:20181021T043000Z
SUMMARY:SATURDAY NIGHT BAND
GEO:-33.857501;151.20866
LOCATION:Mercantile Hotel\, 25 George Street\, The Rocks\, NSW\, 2000\, Aus
 tralia
END:VEVENT
END:VCALENDAR
