BEGIN:VCALENDAR
VERSION:2.0
PRODID:-//Squarespace Inc/Squarespace 6//v6//EN
BEGIN:VEVENT
UID:5d1334faaf12ea00012d5aa7@squarespace.com
DTSTAMP:20191220T075755Z
DTSTART:20191229T010000Z
DTEND:20191229T053000Z
SUMMARY:SATURDAY NIGHT BAND
GEO:-33.857501;151.20866
LOCATION:Mercantile Hotel\, 25 George Street\, The Rocks\, NSW\, 2000\, Aus
 tralia
END:VEVENT
END:VCALENDAR
