BEGIN:VCALENDAR
VERSION:2.0
PRODID:-//Squarespace Inc/Squarespace 6//v6//EN
BEGIN:VEVENT
UID:5e3a52d35657b711dbfb3ea5@squarespace.com
DTSTAMP:20200205T053053Z
DTSTART:20200302T010000Z
DTEND:20200302T040000Z
SUMMARY:SUNDAY NIGHT ROCK
GEO:-33.857501;151.20866
LOCATION:Mercantile Hotel\, 25 George Street\, The Rocks\, NSW\, 2000\, Aus
 tralia
END:VEVENT
END:VCALENDAR
