BEGIN:VCALENDAR
VERSION:2.0
PRODID:-//Squarespace Inc/Squarespace 6//v6//EN
BEGIN:VEVENT
UID:5e21620d7ecee047b5432f47@squarespace.com
DTSTAMP:20200117T072839Z
DTSTART:20200202T020000Z
DTEND:20200202T053000Z
SUMMARY:SATURDAY NIGHT BAND
GEO:-33.857501;151.20866
LOCATION:Mercantile Hotel\, 25 George Street\, The Rocks\, NSW\, 2000\, Aus
 tralia
END:VEVENT
END:VCALENDAR
