BEGIN:VCALENDAR
VERSION:2.0
PRODID:-//Squarespace Inc/Squarespace 6//v6//EN
BEGIN:VEVENT
UID:5e30f519afbe77477d16572a@squarespace.com
DTSTAMP:20200129T025955Z
DTSTART:20200216T020000Z
DTEND:20200216T053000Z
SUMMARY:SATURDAY NIGHT BAND
GEO:-33.857501;151.20866
LOCATION:Mercantile Hotel\, 25 George Street\, The Rocks\, NSW\, 2000\, Aus
 tralia
END:VEVENT
END:VCALENDAR
