BEGIN:VCALENDAR
VERSION:2.0
PRODID:-//Squarespace Inc/Squarespace 6//v6//EN
BEGIN:VEVENT
UID:5e3a562979bbef0caa909ec2@squarespace.com
DTSTAMP:20200205T054425Z
DTSTART:20200209T020000Z
DTEND:20200209T053000Z
SUMMARY:SATURDAY NIGHT BAND (Copy)
GEO:-33.857501;151.20866
LOCATION:Mercantile Hotel\, 25 George Street\, The Rocks\, NSW\, 2000\, Aus
 tralia
END:VEVENT
END:VCALENDAR
