BEGIN:VCALENDAR
VERSION:2.0
PRODID:-//Squarespace Inc/Squarespace 6//v6//EN
BEGIN:VEVENT
UID:5e0c0c62014e1a25d2c542c9@squarespace.com
DTSTAMP:20200101T031041Z
DTSTART:20200101T210000Z
DTEND:20200102T010000Z
SUMMARY:NYD MUSIC
GEO:-33.857501;151.20866
LOCATION:Mercantile Hotel\, 25 George Street\, The Rocks\, NSW\, 2000\, Aus
 tralia
END:VEVENT
END:VCALENDAR
