BEGIN:VCALENDAR
VERSION:2.0
PRODID:-//Squarespace Inc/Squarespace 6//v6//EN
BEGIN:VEVENT
UID:5c6e62abe79c70abac79d1eb@squarespace.com
DTSTAMP:20190221T083646Z
DTSTART:20190224T013000Z
DTEND:20190224T053000Z
SUMMARY:SATURDAY NIGHT BAND - PANORAMA TRIO
GEO:-33.857501;151.20866
LOCATION:Mercantile Hotel\, 25 George Street\, The Rocks\, NSW\, 2000\, Aus
 tralia
END:VEVENT
END:VCALENDAR
