BEGIN:VCALENDAR
VERSION:2.0
PRODID:-//Squarespace Inc/Squarespace 6//v6//EN
BEGIN:VEVENT
UID:5de0a059f26533387af13848@squarespace.com
DTSTAMP:20200101T032145Z
DTSTART:20200106T010000Z
DTEND:20200106T040000Z
SUMMARY:SUNDAY NIGHT ROCK
GEO:-33.857501;151.20866
LOCATION:The Mercantile Hotel\, 25 George Street\, The Rocks\, NSW\, 2000\, 
 Australia
END:VEVENT
END:VCALENDAR
