BEGIN:VCALENDAR
VERSION:2.0
PRODID:-//Squarespace Inc/Squarespace 6//v6//EN
BEGIN:VEVENT
UID:5e0c16ee192cf25f692dfcfb@squarespace.com
DTSTAMP:20200110T034020Z
DTSTART:20200113T010000Z
DTEND:20200113T040000Z
SUMMARY:SUNDAY NIGHT ROCK
GEO:-33.857501;151.20866
LOCATION:The Mercantile Hotel\, 25 George Street\, The Rocks\, NSW\, 2000\, 
 Australia
END:VEVENT
END:VCALENDAR
