BEGIN:VCALENDAR
VERSION:2.0
PRODID:-//Squarespace Inc/Squarespace 6//v6//EN
BEGIN:VEVENT
UID:5df9cc3b54e9a70ab86252dc@squarespace.com
DTSTAMP:20191218T065055Z
DTSTART:20191230T010000Z
DTEND:20191230T040000Z
SUMMARY:SUNDAY NIGHT ROCK
GEO:-33.857501;151.20866
LOCATION:The Mercantile Hotel\, 25 George Street\, The Rocks\, NSW\, 2000\, 
 Australia
END:VEVENT
END:VCALENDAR
