BEGIN:VCALENDAR
VERSION:2.0
PRODID:-//Squarespace Inc/Squarespace 6//v6//EN
BEGIN:VEVENT
UID:5c5f8271104c7bb62a0df0fc@squarespace.com
DTSTAMP:20190228T032528Z
DTSTART:20190218T013000Z
DTEND:20190218T043000Z
SUMMARY:SUNDAY NIGHT 
GEO:-33.857501;151.20866
LOCATION:The Mercantile Hotel\, 25 George Street\, The Rocks\, NSW\, 2000\, 
 Australia
END:VEVENT
END:VCALENDAR
