BEGIN:VCALENDAR
VERSION:2.0
PRODID:-//Squarespace Inc/Squarespace 6//v6//EN
BEGIN:VEVENT
UID:5c7754a8a4222f8132a59a21@squarespace.com
DTSTAMP:20190228T035611Z
DTSTART:20190304T013000Z
DTEND:20190304T043000Z
SUMMARY:SUNDAY NIGHT 
GEO:-33.857501;151.20866
LOCATION:The Mercantile Hotel\, 25 George Street\, The Rocks\, NSW\, 2000\, 
 Australia
END:VEVENT
END:VCALENDAR
