BEGIN:VCALENDAR
VERSION:2.0
PRODID:-//Squarespace Inc/Squarespace 6//v6//EN
BEGIN:VEVENT
UID:585326ad29687ff7e8ac2feb@squarespace.com
DTSTAMP:20180413T122448Z
DTSTART:20171026T230000Z
DTEND:20171027T040000Z
SUMMARY:THURSDAY ENTERTAINMENT DUO
GEO:-33.857501;151.20866
LOCATION:Mercantile Hotel\, 25 George Street\, The Rocks\, NSW\, 2000\, Aus
 tralia
END:VEVENT
END:VCALENDAR
