BEGIN:VCALENDAR
VERSION:2.0
PRODID:-//Squarespace Inc/Squarespace 6//v6//EN
BEGIN:VEVENT
UID:5b10de986d2a737c1d1b10fb@squarespace.com
DTSTAMP:20180601T055151Z
DTSTART:20180602T003000Z
DTEND:20180602T043000Z
SUMMARY:FRIDAY NIGHT MUSIC
GEO:-33.857501;151.20866
LOCATION:Mercantile Hotel\, 25 George Street\, The Rocks\, NSW\, 2000\, Aus
 tralia
END:VEVENT
END:VCALENDAR
